BEGIN:VCALENDAR
VERSION:2.0
PRODID:-//craftonline.org//NONSGML CALENDAR-EVENT//EN
METHOD:PUBLISH
BEGIN:VEVENT
UID:681507912980
DTSTAMP:20180128T000000
DTSTART:20180128T000000
DTEND:20180128T235900
LOCATION:Las Vegas, NV
SUMMARY:Las Vegas Market
DESCRIPTION:Las Vegas Market
RRULE:FREQ=DAILY;COUNT=5
END:VEVENT
END:VCALENDAR