BEGIN:VCALENDAR
VERSION:2.0
PRODID:-//craftonline.org//NONSGML CALENDAR-EVENT//EN
METHOD:PUBLISH
BEGIN:VEVENT
UID:701507914921
DTSTAMP:20180217T000000
DTSTART:20180217T000000
DTEND:20180217T235900
LOCATION:Philadelphia, PA
SUMMARY:ACRE Philadelphia
DESCRIPTION:ACRE Philadelphia
RRULE:FREQ=DAILY;COUNT=3
END:VEVENT
END:VCALENDAR