BEGIN:VCALENDAR
VERSION:2.0
PRODID:-//craftonline.org//NONSGML CALENDAR-EVENT//EN
METHOD:PUBLISH
BEGIN:VEVENT
UID:801540242342
DTSTAMP:20190108T000000
DTSTART:20190108T000000
DTEND:20190108T235900
LOCATION:Atlanta, GA
SUMMARY:Atlanta Int'l Gift & Home Furnishings Mkt
DESCRIPTION:
RRULE:FREQ=DAILY;COUNT=8
END:VEVENT
END:VCALENDAR